BEGIN:VCALENDAR
VERSION:2.0
PRODID:-//www.foundationforlps.org//NONSGML kigkonsult.se iCalcreator 2.30.
 10//
CALSCALE:GREGORIAN
METHOD:PUBLISH
UID:ebd81dcd-76d4-4d39-92be-e60a01598f2b
X-WR-CALDESC:
X-WR-RELCALID:82f6156a99464748a6746179b05a6917
X-WR-TIMEZONE:America/Chicago
BEGIN:VTIMEZONE
TZID:America/Chicago
BEGIN:STANDARD
TZNAME:CST
DTSTART:20231105T020000
TZOFFSETFROM:-0500
TZOFFSETTO:-0600
RDATE:20241103T020000
RDATE:20251102T020000
END:STANDARD
BEGIN:DAYLIGHT
TZNAME:CDT
DTSTART:20240310T020000
TZOFFSETFROM:-0600
TZOFFSETTO:-0500
RDATE:20250309T020000
END:DAYLIGHT
END:VTIMEZONE
BEGIN:VEVENT
UID:ab7861c3-79bc-4d39-b9f3-cac3b3120b43
DTSTAMP:20260425T211707Z
DESCRIPTION:
DTSTART;TZID=America/Chicago:20240614T050000
DTEND;TZID=America/Chicago:20240615T050001
LOCATION:
SUMMARY:Lincoln High Class of 1974 50th Reunion
END:VEVENT
END:VCALENDAR
