BEGIN:VCALENDAR
VERSION:2.0
PRODID:-//www.foundationforlps.org//NONSGML kigkonsult.se iCalcreator 2.30.
 10//
CALSCALE:GREGORIAN
METHOD:PUBLISH
UID:0e170612-83ea-4e2c-9207-6707b1dcb5d4
X-WR-CALDESC:
X-WR-RELCALID:1a3b2c8d92120130da2013720a948f34
X-WR-TIMEZONE:America/Chicago
BEGIN:VTIMEZONE
TZID:America/Chicago
BEGIN:STANDARD
TZNAME:CST
DTSTART:20231105T020000
TZOFFSETFROM:-0500
TZOFFSETTO:-0600
RDATE:20241103T020000
RDATE:20251102T020000
END:STANDARD
BEGIN:DAYLIGHT
TZNAME:CDT
DTSTART:20240310T020000
TZOFFSETFROM:-0600
TZOFFSETTO:-0500
RDATE:20250309T020000
END:DAYLIGHT
END:VTIMEZONE
BEGIN:VEVENT
UID:4a757a1d-9d0b-4787-a226-b7e1c5f3401e
DTSTAMP:20260425T195721Z
DESCRIPTION:
DTSTART;TZID=America/Chicago:20240726T050000
DTEND;TZID=America/Chicago:20240727T050001
LOCATION:
SUMMARY:Lincoln Southeast Class of 1994 30th Reunion
END:VEVENT
END:VCALENDAR
