BEGIN:VCALENDAR
VERSION:2.0
PRODID:-//www.foundationforlps.org//NONSGML kigkonsult.se iCalcreator 2.30.
 10//
CALSCALE:GREGORIAN
METHOD:PUBLISH
UID:d1fd15e5-4278-4188-a372-40a30c4d0284
X-WR-CALDESC:
X-WR-RELCALID:e4c761d64f49577a39a7a7fde61d5902
X-WR-TIMEZONE:America/Chicago
BEGIN:VTIMEZONE
TZID:America/Chicago
BEGIN:STANDARD
TZNAME:CST
DTSTART:20231105T020000
TZOFFSETFROM:-0500
TZOFFSETTO:-0600
RDATE:20241103T020000
RDATE:20251102T020000
END:STANDARD
BEGIN:DAYLIGHT
TZNAME:CDT
DTSTART:20240310T020000
TZOFFSETFROM:-0600
TZOFFSETTO:-0500
RDATE:20250309T020000
END:DAYLIGHT
END:VTIMEZONE
BEGIN:VEVENT
UID:cd3a91dc-6ec8-493c-9a45-8aec467ce099
DTSTAMP:20260425T184248Z
DESCRIPTION:
DTSTART;TZID=America/Chicago:20240823T050000
DTEND;TZID=America/Chicago:20240824T050001
LOCATION:
SUMMARY:Lincoln High Class of 1999
END:VEVENT
END:VCALENDAR
