BEGIN:VCALENDAR
VERSION:2.0
PRODID:-//www.foundationforlps.org//NONSGML kigkonsult.se iCalcreator 2.30.
 10//
CALSCALE:GREGORIAN
METHOD:PUBLISH
UID:c61c3969-202a-413e-b50a-15ddf2a3b088
X-WR-CALDESC:
X-WR-RELCALID:f5642541336f59aa8e4ee24e3b9b8040
X-WR-TIMEZONE:America/Chicago
BEGIN:VTIMEZONE
TZID:America/Chicago
BEGIN:STANDARD
TZNAME:CST
DTSTART:20231105T020000
TZOFFSETFROM:-0500
TZOFFSETTO:-0600
RDATE:20241103T020000
RDATE:20251102T020000
END:STANDARD
BEGIN:DAYLIGHT
TZNAME:CDT
DTSTART:20240310T020000
TZOFFSETFROM:-0600
TZOFFSETTO:-0500
RDATE:20250309T020000
RDATE:20260308T020000
END:DAYLIGHT
END:VTIMEZONE
BEGIN:VEVENT
UID:038e3cbe-3ebb-4add-b70d-f5ebe4c634a7
DTSTAMP:20260425T172402Z
DESCRIPTION:
DTSTART;TZID=America/Chicago:20240926T050000
DTEND;TZID=America/Chicago:20240928T050001
LOCATION:
SUMMARY:Lincoln Southwest Class of 2004 20th Reunion
END:VEVENT
END:VCALENDAR
