BEGIN:VCALENDAR
VERSION:2.0
PRODID:-//www.foundationforlps.org//NONSGML kigkonsult.se iCalcreator 2.30.
 10//
CALSCALE:GREGORIAN
METHOD:PUBLISH
UID:46a20eb5-1231-4b2a-ad0f-a1f52d699261
X-WR-CALDESC:
X-WR-RELCALID:94ef2886283c8435b1cd65ad8e478e68
X-WR-TIMEZONE:America/Chicago
BEGIN:VTIMEZONE
TZID:America/Chicago
BEGIN:STANDARD
TZNAME:CST
DTSTART:20231105T020000
TZOFFSETFROM:-0500
TZOFFSETTO:-0600
RDATE:20241103T020000
RDATE:20251102T020000
END:STANDARD
BEGIN:DAYLIGHT
TZNAME:CDT
DTSTART:20240310T020000
TZOFFSETFROM:-0600
TZOFFSETTO:-0500
RDATE:20250309T020000
RDATE:20260308T020000
END:DAYLIGHT
END:VTIMEZONE
BEGIN:VEVENT
UID:9ec044f7-19cb-43a5-a3be-56056104c34b
DTSTAMP:20260425T160641Z
DESCRIPTION:
DTSTART;TZID=America/Chicago:20241004T050000
DTEND;TZID=America/Chicago:20241006T050001
LOCATION:
SUMMARY:Lincoln High Class of 2004 20th Reunion
END:VEVENT
END:VCALENDAR
