BEGIN:VCALENDAR
VERSION:2.0
PRODID:-//www.foundationforlps.org//NONSGML kigkonsult.se iCalcreator 2.30.
 10//
CALSCALE:GREGORIAN
METHOD:PUBLISH
UID:17299477-8b98-4a5b-87ea-5cb75d1c985e
X-WR-CALDESC:
X-WR-RELCALID:1d555b2ecff57a9ffd30d25a153e1386
X-WR-TIMEZONE:America/Chicago
BEGIN:VTIMEZONE
TZID:America/Chicago
BEGIN:STANDARD
TZNAME:CST
DTSTART:20231105T020000
TZOFFSETFROM:-0500
TZOFFSETTO:-0600
RDATE:20241103T020000
RDATE:20251102T020000
END:STANDARD
BEGIN:DAYLIGHT
TZNAME:CDT
DTSTART:20240310T020000
TZOFFSETFROM:-0600
TZOFFSETTO:-0500
RDATE:20250309T020000
RDATE:20260308T020000
END:DAYLIGHT
END:VTIMEZONE
BEGIN:VEVENT
UID:85a20b3f-f45e-409b-8030-691741e5fb02
DTSTAMP:20260425T160232Z
DESCRIPTION:
DTSTART;TZID=America/Chicago:20241011T050000
DTEND;TZID=America/Chicago:20241012T050001
LOCATION:
SUMMARY:Lincoln East Class of 1974 50th Reunion
END:VEVENT
END:VCALENDAR
