BEGIN:VCALENDAR
VERSION:2.0
PRODID:-//www.foundationforlps.org//NONSGML kigkonsult.se iCalcreator 2.30.
 10//
CALSCALE:GREGORIAN
METHOD:PUBLISH
UID:fb39ce1a-405b-4087-b4d8-c20bb20eab33
X-WR-CALDESC:More details to come!
X-WR-RELCALID:f9c7328b2bfd89c7dc7292f700cdf36f
X-WR-TIMEZONE:America/Chicago
BEGIN:VTIMEZONE
TZID:America/Chicago
BEGIN:STANDARD
TZNAME:CST
DTSTART:20241103T020000
TZOFFSETFROM:-0500
TZOFFSETTO:-0600
RDATE:20251102T020000
RDATE:20261101T020000
END:STANDARD
BEGIN:DAYLIGHT
TZNAME:CDT
DTSTART:20250309T020000
TZOFFSETFROM:-0600
TZOFFSETTO:-0500
RDATE:20260308T020000
END:DAYLIGHT
END:VTIMEZONE
BEGIN:VEVENT
UID:3770532c-2310-48ad-ba63-850b6d765e6f
DTSTAMP:20260425T031413Z
DESCRIPTION:More details to come!
DTSTART;TZID=America/Chicago:20250809T050000
DTEND;TZID=America/Chicago:20250809T050001
LOCATION:
SUMMARY:Lincoln Northeast Class of 1985 40th Reunion
END:VEVENT
END:VCALENDAR
