BEGIN:VCALENDAR
VERSION:2.0
PRODID:-//www.foundationforlps.org//NONSGML kigkonsult.se iCalcreator 2.30.
 10//
CALSCALE:GREGORIAN
METHOD:PUBLISH
UID:864b1c48-51bf-40bd-af9a-edea78c36cff
X-WR-CALDESC:
X-WR-RELCALID:8cc8964c4d2888984382a954f23af4f3
X-WR-TIMEZONE:America/Chicago
BEGIN:VTIMEZONE
TZID:America/Chicago
BEGIN:STANDARD
TZNAME:CST
DTSTART:20241103T020000
TZOFFSETFROM:-0500
TZOFFSETTO:-0600
RDATE:20251102T020000
RDATE:20261101T020000
END:STANDARD
BEGIN:DAYLIGHT
TZNAME:CDT
DTSTART:20250309T020000
TZOFFSETFROM:-0600
TZOFFSETTO:-0500
RDATE:20260308T020000
END:DAYLIGHT
END:VTIMEZONE
BEGIN:VEVENT
UID:521e9bee-f878-4af2-b7ed-02c372614a3f
DTSTAMP:20260425T030054Z
DESCRIPTION:
DTSTART;TZID=America/Chicago:20250829T050000
DTEND;TZID=America/Chicago:20250830T050001
LOCATION:
SUMMARY:Lincoln Southeast Class of 1975 50th Reunion
END:VEVENT
END:VCALENDAR
